BEGIN:VCALENDAR
PRODID:-//github.com/rianjs/ical.net//NONSGML ical.net 4.0//EN
VERSION:2.0
BEGIN:VEVENT
DESCRIPTION:Test på demoskole
DTEND:20260423T235959
DTSTAMP:20260423T104141Z
DTSTART;VALUE=DATE:20260423
LOCATION:test
SEQUENCE:0
SUMMARY:Test på demoskole
UID:7513c8c4-624a-4d58-b948-51fd20c3a7a8
END:VEVENT
END:VCALENDAR
