BEGIN:VCALENDAR
PRODID:-//github.com/rianjs/ical.net//NONSGML ical.net 4.0//EN
VERSION:2.0
BEGIN:VEVENT
DESCRIPTION:Skolestart
DTEND:20270816T235959
DTSTAMP:20260423T104018Z
DTSTART;VALUE=DATE:20270816
SEQUENCE:0
SUMMARY:Skolestart
UID:e37cf137-87c3-4ee5-8e44-b14b6c90f9aa
END:VEVENT
END:VCALENDAR
