BEGIN:VCALENDAR
PRODID:-//github.com/rianjs/ical.net//NONSGML ical.net 4.0//EN
VERSION:2.0
BEGIN:VEVENT
DESCRIPTION:Påskeferie 2027
DTEND:20270330T235959
DTSTAMP:20260423T104757Z
DTSTART;VALUE=DATE:20270322
SEQUENCE:0
SUMMARY:Påskeferie 2027
UID:70f9b23c-f394-4766-99e9-ba507e9b2c89
END:VEVENT
END:VCALENDAR
