BEGIN:VCALENDAR
PRODID:-//github.com/rianjs/ical.net//NONSGML ical.net 4.0//EN
VERSION:2.0
BEGIN:VEVENT
DESCRIPTION:Høstferie
DTEND:20261002T000000
DTSTAMP:20260423T103812Z
DTSTART:20260928T000000
SEQUENCE:0
SUMMARY:Høstferie
UID:3dc7928f-943a-4c41-a28a-85351e419d48
END:VEVENT
END:VCALENDAR
