BEGIN:VCALENDAR
PRODID:-//github.com/rianjs/ical.net//NONSGML ical.net 4.0//EN
VERSION:2.0
BEGIN:VEVENT
DESCRIPTION:Siste skoledag før sommerferien
DTEND:20270618T000000
DTSTAMP:20260423T104311Z
DTSTART:20270618T000000
SEQUENCE:0
SUMMARY:Siste skoledag før sommerferien
UID:a7e17005-297c-44a7-bfc8-bf6b1fc0c007
END:VEVENT
END:VCALENDAR
