BEGIN:VCALENDAR
PRODID:-//github.com/rianjs/ical.net//NONSGML ical.net 4.0//EN
VERSION:2.0
BEGIN:VEVENT
DESCRIPTION:Kristi Himmelfartsdag
DTEND:20270506T000000
DTSTAMP:20260423T104018Z
DTSTART:20270506T000000
SEQUENCE:0
SUMMARY:Kristi Himmelfartsdag
UID:1484b9c1-5092-46e5-a974-98781aa7a1bc
END:VEVENT
END:VCALENDAR
