BEGIN:VCALENDAR
PRODID:-//github.com/rianjs/ical.net//NONSGML ical.net 4.0//EN
VERSION:2.0
BEGIN:VEVENT
DESCRIPTION:2. pinsedag
DTEND:20260525T235959
DTSTAMP:20260423T103942Z
DTSTART;VALUE=DATE:20260525
SEQUENCE:0
SUMMARY:2. pinsedag
UID:efde3cf7-e9e0-4a69-be3c-35d562d383a1
END:VEVENT
END:VCALENDAR
