BEGIN:VCALENDAR
PRODID:-//github.com/rianjs/ical.net//NONSGML ical.net 4.0//EN
VERSION:2.0
BEGIN:VEVENT
DESCRIPTION:Kristi Himmelfartsdag
DTEND:20260514T235959
DTSTAMP:20260423T103812Z
DTSTART;VALUE=DATE:20260514
SEQUENCE:0
SUMMARY:Kristi Himmelfartsdag
UID:72871f2e-a74e-4637-8fc1-d2655bdd7f16
END:VEVENT
END:VCALENDAR
