BEGIN:VCALENDAR
PRODID:-//github.com/rianjs/ical.net//NONSGML ical.net 4.0//EN
VERSION:2.0
BEGIN:VEVENT
DESCRIPTION:Arbeidernes dag
DTEND:20260501T235959
DTSTAMP:20260423T104745Z
DTSTART;VALUE=DATE:20260501
SEQUENCE:0
SUMMARY:Arbeidernes dag
UID:587d8866-27f4-4287-a8ba-ba566b644640
END:VEVENT
END:VCALENDAR
